BEGIN:VCALENDAR
VERSION:2.0
PRODID:-//Rode Road Shopping Centre - ECPv5.0.1//NONSGML v1.0//EN
CALSCALE:GREGORIAN
METHOD:PUBLISH
X-WR-CALNAME:Rode Road Shopping Centre
X-ORIGINAL-URL:http://roderoad.com.au
X-WR-CALDESC:Events for Rode Road Shopping Centre
BEGIN:VTIMEZONE
TZID:Europe/Paris
BEGIN:DAYLIGHT
TZOFFSETFROM:+0100
TZOFFSETTO:+0200
TZNAME:CEST
DTSTART:20180325T010000
END:DAYLIGHT
BEGIN:STANDARD
TZOFFSETFROM:+0200
TZOFFSETTO:+0100
TZNAME:CET
DTSTART:20181028T010000
END:STANDARD
END:VTIMEZONE
BEGIN:VEVENT
DTSTART;TZID=Europe/Paris:20180809T080000
DTEND;TZID=Europe/Paris:20180831T170000
DTSTAMP:20200226T130048
CREATED:20180809T034152Z
LAST-MODIFIED:20180827T010619Z
UID:9869-1533801600-1535734800@roderoad.com.au
SUMMARY:Father's Day Giveaway Competition
DESCRIPTION:GO ON MAKE DAD’S DAY – FATHER’S DAY COMPETITION | Shop at Rode + Cntr and WIN this amazing prize \nWIN a Weber Q2200/$100 Rode Meats Tray/$50 Rode Barber Voucher\, $100 BWS Voucher and $100 Shell Voucher! Total value $789 \n\nHow To Enter:  \n\nSimply spend $20 or more in any specialty store\, or dining venue or $50 or more at Coles in one transaction to receive an entry form.\nComplete the entry form and drop into the entry box located in the store of purchase.\n\nRR-BTM-Father’s Day Terms & Conditions \n
URL:http://roderoad.com.au/event/9869/
END:VEVENT
END:VCALENDAR