BEGIN:VCALENDAR
VERSION:2.0
PRODID:-//Rode Road Shopping Centre - ECPv5.0.1//NONSGML v1.0//EN
CALSCALE:GREGORIAN
METHOD:PUBLISH
X-WR-CALNAME:Rode Road Shopping Centre
X-ORIGINAL-URL:http://roderoad.com.au
X-WR-CALDESC:Events for Rode Road Shopping Centre
BEGIN:VTIMEZONE
TZID:Europe/Paris
BEGIN:DAYLIGHT
TZOFFSETFROM:+0100
TZOFFSETTO:+0200
TZNAME:CEST
DTSTART:20190331T010000
END:DAYLIGHT
BEGIN:STANDARD
TZOFFSETFROM:+0200
TZOFFSETTO:+0100
TZNAME:CET
DTSTART:20191027T010000
END:STANDARD
END:VTIMEZONE
BEGIN:VEVENT
DTSTART;TZID=Europe/Paris:20190901T000000
DTEND;TZID=Europe/Paris:20190928T130000
DTSTAMP:20200226T123538
CREATED:20190829T022520Z
LAST-MODIFIED:20190829T234248Z
UID:9932-1567296000-1569675600@roderoad.com.au
SUMMARY:FRESHtival Competition. WIN Rode+ Cntr Gift Cards
DESCRIPTION:FRESHtival Competition\nShop to WIN at Rode + Cntr \n10 x $100 Rode+ Cntr Gift Cards\nHow To Enter:  \n\nSimply spend $10 or more in any specialty store\, or dining venue or $50 or more at Coles in one transaction to receive an entry form.\nCollect a Unique Code from the participating Retailer.\nEnter the Unique Code here or complete the entry form and drop into the entry box located in the store of purchase.\n\nClick here for terms and conditions. \n
URL:http://roderoad.com.au/event/freshtival/
ATTACH;FMTTYPE=image/jpeg:http://roderoad.com.au/wp-content/uploads/2019/08/RR-BTM-Freshtival-Facebook-Event-WIN.jpg
END:VEVENT
END:VCALENDAR