BEGIN:VCALENDAR
VERSION:2.0
PRODID:-//Rode Road Shopping Centre - ECPv5.0.1//NONSGML v1.0//EN
CALSCALE:GREGORIAN
METHOD:PUBLISH
X-WR-CALNAME:Rode Road Shopping Centre
X-ORIGINAL-URL:http://roderoad.com.au
X-WR-CALDESC:Events for Rode Road Shopping Centre
BEGIN:VTIMEZONE
TZID:Europe/Paris
BEGIN:DAYLIGHT
TZOFFSETFROM:+0100
TZOFFSETTO:+0200
TZNAME:CEST
DTSTART:20200329T010000
END:DAYLIGHT
BEGIN:STANDARD
TZOFFSETFROM:+0200
TZOFFSETTO:+0100
TZNAME:CET
DTSTART:20201025T010000
END:STANDARD
END:VTIMEZONE
BEGIN:VEVENT
DTSTART;VALUE=DATE:20200228
DTEND;VALUE=DATE:20200229
DTSTAMP:20200226T123321
CREATED:20200213T040319Z
LAST-MODIFIED:20200213T040319Z
UID:10045-1582848000-1582934399@roderoad.com.au
SUMMARY:Rode Meats - Annual Sausage Competition Winners
DESCRIPTION:🏆🥇CHAMPIONS 🏆🥇 \nWOW! A huge huge congratulations to Rode meats who have just been crowned Australia’s BEST Continental Sausage with their amazing Pork and Fennel Sausage at the Annual Sausage King Competition. \nWell done team! If you haven’t tried this amazing snag or any of their other varieties you need to! \n
URL:http://roderoad.com.au/event/rode-meats-annual-sausage-competition-winners/
ATTACH;FMTTYPE=image/jpeg:http://roderoad.com.au/wp-content/uploads/2020/02/pork-and-fennell-sausage-winners.jpg
END:VEVENT
END:VCALENDAR